BEGIN:VCALENDAR
VERSION:2.0
PRODID:-//Archetype - ECPv5.16.2.1//NONSGML v1.0//EN
CALSCALE:GREGORIAN
METHOD:PUBLISH
X-WR-CALNAME:Archetype
X-ORIGINAL-URL:http://44.224.8.222
X-WR-CALDESC:Events for Archetype
REFRESH-INTERVAL;VALUE=DURATION:PT1H
X-Robots-Tag:noindex
X-PUBLISHED-TTL:PT1H
BEGIN:VTIMEZONE
TZID:America/Chicago
BEGIN:DAYLIGHT
TZOFFSETFROM:-0600
TZOFFSETTO:-0500
TZNAME:CDT
DTSTART:20260308T080000
END:DAYLIGHT
BEGIN:STANDARD
TZOFFSETFROM:-0500
TZOFFSETTO:-0600
TZNAME:CST
DTSTART:20261101T070000
END:STANDARD
END:VTIMEZONE
BEGIN:VEVENT
DTSTART;TZID=America/Chicago:20260425T100000
DTEND;TZID=America/Chicago:20260425T180000
DTSTAMP:20260424T033017
CREATED:20260122T195248Z
LAST-MODIFIED:20260126T175520Z
UID:4394-1777111200-1777140000@44.224.8.222
SUMMARY:Everyone Has A Plan- Force on Force
DESCRIPTION:Everyone has a plan \nEveryone Has a Plan is a next steps force on force class designed for people that have a moderate level of gun handling and concealed carry experience.  The course is an eight hour scenario based program that builds the decision making process of the student through exposure to problems presented by our instructors and role players. This class is not focused on shooting skills\, but the more important skills of awareness of your surroundings and decision making.  Scenarios will present the student with opportunities to refine their decision making skills before\, during\, and after a violent encounter involving a firearm. \nStudents will go through at least five instructor led scenarios that will layer in more complicated choices and problems than our So You Think You Can Carry course. The scenarios are all based on real world events and the student will be equipped with an Airsoft pistol that is gas powered and fires a non-lethal 6mm plastic projectile. The use of Non-lethal Training Ammunition (NLTA) allows for realistic presentation of gunfire in a safe environment. All force on force equipment is provided by our instructors in the class. There will be discussions after each scenario in both individual and group settings to further explore the decisions made by each student as well as self defense law\, medical response\, and post incident response procedures. \nIn order to maintain a safe training environment\, no real weapons (guns\, knives\, pepper spray\, impact weapons\, or ammunition) will be allowed into the training environment. All students will be subject to inspection of their person and any bags or containers they bring with them to the class.  Flashlights that do not have sharp edges or impact bezels will be allowed in class and are encouraged.  Students will be required to have a long sleeved shirt and long pants for safety.  Gloves and neck protection are optional but recommended.  Face and eye protection are provided by us but students can use their own protective equipment pending inspection by the instructors.  There will be no meal break during the class so students are encouraged to bring their own food and drinks.  Snacks\, coffee\, and water will be available to the students throughout the day. \nThe size of the class is limited to 10 students to ensure everyone gets quality instruction and feedback.  Proof of prior force on force or a 16 hour fighting pistol class is required to attend the class and will be requested by our staff upon enrollment and payment.  We reserve  the right to cancel enrollment and refund payment if we feel the student does not have the requisite training skills or proof of training in order to ensure a good learning experience for the class. \n 
URL:http://44.224.8.222/event/everyone-has-a-plan-force-on-force-2/
LOCATION:Shore Galleries Training Center\, 3360 W Devon Ave\, Lincolnwood\, IL\, 60712\, United States
ORGANIZER;CN="Archetype%20of%20the%20Gun":MAILTO:Erik@archetypeofthegun.com
GEO:41.9976701;-87.7135388
X-APPLE-STRUCTURED-LOCATION;VALUE=URI;X-ADDRESS=Shore Galleries Training Center 3360 W Devon Ave Lincolnwood IL 60712 United States;X-APPLE-RADIUS=500;X-TITLE=3360 W Devon Ave:geo:-87.7135388,41.9976701
END:VEVENT
BEGIN:VEVENT
DTSTART;TZID=America/Chicago:20261231T214700
DTEND;TZID=America/Chicago:20261231T214700
DTSTAMP:20260424T033018
CREATED:20240307T214730Z
LAST-MODIFIED:20250115T020253Z
UID:2624-1798753620-1798753620@44.224.8.222
SUMMARY:Private Lesson with Dan
DESCRIPTION:Use this link only if you are paying for a private lesson with Dan.
URL:http://44.224.8.222/event/private-lesson-with-dan/
LOCATION:Shore Galleries Training Center\, 3360 W Devon Ave\, Lincolnwood\, IL\, 60712\, United States
ORGANIZER;CN="Archetype%20of%20the%20Gun":MAILTO:Erik@archetypeofthegun.com
GEO:41.9976701;-87.7135388
X-APPLE-STRUCTURED-LOCATION;VALUE=URI;X-ADDRESS=Shore Galleries Training Center 3360 W Devon Ave Lincolnwood IL 60712 United States;X-APPLE-RADIUS=500;X-TITLE=3360 W Devon Ave:geo:-87.7135388,41.9976701
END:VEVENT
END:VCALENDAR